BEGIN:VCALENDAR
VERSION:2.0
PRODID:-//Tukios.com/
BEGIN:VEVENT
UID:7f604dc8-4ea2-43d7-ad08-325d33011ef0@www.trinitymemorialcenters.com
DTSTAMP:20260421T000740Z
DTSTART:20260422T200000Z
DTEND:20260422T230000Z
SUMMARY:Visitation for Caleb Alexander Hodges
DESCRIPTION:
URL:https://www.trinitymemorialcenters.com/obituaries/caleb-hodges
LOCATION:St Luke Methodist Church 2600 East Center Street  Kingsport TN 
	37664
GEO:36.5366747;-82.5180418
END:VEVENT
END:VCALENDAR