BEGIN:VCALENDAR
VERSION:2.0
PRODID:-//Tukios.com/
BEGIN:VEVENT
UID:25f8a4e2-f03d-4833-a062-d503d49b0f83@www.trinitymemorialcenters.com
DTSTAMP:20260421T000245Z
DTSTART:20260422T230000Z
DTEND:20260423T000000Z
SUMMARY:Celebration Of Life for Caleb Alexander Hodges
DESCRIPTION:
URL:https://www.trinitymemorialcenters.com/obituaries/caleb-hodges
LOCATION:St Luke Methodist Church 2600 East Center Street  Kingsport TN 
	37664
GEO:36.5366747;-82.5180418
END:VEVENT
END:VCALENDAR