BEGIN:VCALENDAR
VERSION:2.0
PRODID:-//Tukios.com/
BEGIN:VEVENT
UID:018d8159-3347-409e-bcc1-0db290b54b95@www.trinitymemorialcenters.com
DTSTAMP:20260421T000714Z
DTSTART:20260425T000000Z
DTEND:20260425T010000Z
SUMMARY:Other
DESCRIPTION:
URL:https://www.trinitymemorialcenters.com/obituaries/caleb-hodges
LOCATION:Kingsport Speedway 2961 North John B Dennis Highway  Kingsport 
	TN 37660
GEO:36.5692939;-82.5038833
END:VEVENT
END:VCALENDAR