BEGIN:VCALENDAR
VERSION:2.0
PRODID:-//Tukios.com/
BEGIN:VEVENT
UID:3f3e006e-5934-473d-89f0-5339d6c62c2f@www.trinitymemorialcenters.com
DTSTAMP:20260421T173026Z
DTSTART:20260424T000000Z
DTEND:20260424T010000Z
SUMMARY:Memorial for Lawrence Michael Hall
DESCRIPTION:
URL:https://www.trinitymemorialcenters.com/obituaries/lawrence-hall
LOCATION:Trinity Memorial Centers 1221 Stewball Circle  Kingsport TN 
	37660
GEO:36.5054353;-82.5513084
END:VEVENT
END:VCALENDAR