BEGIN:VCALENDAR
VERSION:2.0
PRODID:-//Tukios.com/
BEGIN:VEVENT
UID:ef040adf-e1a5-496d-9e80-120b0af257d9@www.trinitymemorialcenters.com
DTSTAMP:20260421T173237Z
DTSTART:20260423T220000Z
DTEND:20260424T000000Z
SUMMARY:Visitation for Lawrence Michael Hall
DESCRIPTION:
URL:https://www.trinitymemorialcenters.com/obituaries/lawrence-hall
LOCATION:Trinity Memorial Centers 1221 Stewball Circle  Kingsport TN 
	37660
GEO:36.5054353;-82.5513084
END:VEVENT
END:VCALENDAR