BEGIN:VCALENDAR
VERSION:2.0
PRODID:-//Tukios.com/
BEGIN:VEVENT
UID:711d8751-bd1e-4f58-a9da-d766c5d60931@www.trinitymemorialcenters.com
DTSTAMP:20260421T192349Z
DTSTART:20260424T220000Z
DTEND:20260425T000000Z
SUMMARY:Celebration Of Life for Michael Wayne Lucas
DESCRIPTION:
URL:https://www.trinitymemorialcenters.com/obituaries/michael-lucas
LOCATION:Trinity Memorial Centers 1221 Stewball Circle  Kingsport TN 
	37660
GEO:36.5054353;-82.5513084
END:VEVENT
END:VCALENDAR